BEGIN:VCALENDAR
VERSION:2.0
PRODID:-//ASORA Madera y Tecnología. Ecosistema Digital de Contenidos - ECPv6.15.6//NONSGML v1.0//EN
CALSCALE:GREGORIAN
METHOD:PUBLISH
X-ORIGINAL-URL:http://prueba2025.maderaytecnologia.com.ar
X-WR-CALDESC:Eventos para ASORA Madera y Tecnología. Ecosistema Digital de Contenidos
REFRESH-INTERVAL;VALUE=DURATION:PT1H
X-Robots-Tag:noindex
X-PUBLISHED-TTL:PT1H
BEGIN:VTIMEZONE
TZID:America/Argentina/Buenos_Aires
BEGIN:STANDARD
TZOFFSETFROM:-0300
TZOFFSETTO:-0300
TZNAME:-03
DTSTART:20240101T000000
END:STANDARD
END:VTIMEZONE
BEGIN:VEVENT
DTSTART;VALUE=DATE:20250408
DTEND;VALUE=DATE:20250411
DTSTAMP:20260419T163507
CREATED:20250317T210618Z
LAST-MODIFIED:20250318T160744Z
UID:4131-1744070400-1744329599@prueba2025.maderaytecnologia.com.ar
SUMMARY:Hotel & Hospitality Expo
DESCRIPTION:
URL:http://prueba2025.maderaytecnologia.com.ar/feria/hotel-hospitality-expo/
LOCATION:Hotel & Hospitality Expo\, Riyahd\, Saudi Arabia
END:VEVENT
BEGIN:VEVENT
DTSTART;VALUE=DATE:20250408
DTEND;VALUE=DATE:20250414
DTSTAMP:20260419T163507
CREATED:20250317T210904Z
LAST-MODIFIED:20250318T160720Z
UID:4138-1744070400-1744588799@prueba2025.maderaytecnologia.com.ar
SUMMARY:63° Salone Internazionale del Mobile
DESCRIPTION:
URL:http://prueba2025.maderaytecnologia.com.ar/feria/63-salone-internazionale-del-mobile/
LOCATION:Salone Internazionale del Mobile\, Milán\, Italy
END:VEVENT
END:VCALENDAR