BEGIN:VCALENDAR
VERSION:2.0
PRODID:-//ASORA Madera y Tecnología. Ecosistema Digital de Contenidos - ECPv6.15.6//NONSGML v1.0//EN
CALSCALE:GREGORIAN
METHOD:PUBLISH
X-ORIGINAL-URL:http://prueba2025.maderaytecnologia.com.ar
X-WR-CALDESC:Eventos para ASORA Madera y Tecnología. Ecosistema Digital de Contenidos
REFRESH-INTERVAL;VALUE=DURATION:PT1H
X-Robots-Tag:noindex
X-PUBLISHED-TTL:PT1H
BEGIN:VTIMEZONE
TZID:America/Argentina/Buenos_Aires
BEGIN:STANDARD
TZOFFSETFROM:-0300
TZOFFSETTO:-0300
TZNAME:-03
DTSTART:20240101T000000
END:STANDARD
END:VTIMEZONE
BEGIN:VEVENT
DTSTART;VALUE=DATE:20250520
DTEND;VALUE=DATE:20250524
DTSTAMP:20260419T163652
CREATED:20250317T220219Z
LAST-MODIFIED:20250512T193824Z
UID:4181-1747699200-1748044799@prueba2025.maderaytecnologia.com.ar
SUMMARY:Interzum 2025
DESCRIPTION:Feria internacional para fabricación de muebles e interiores
URL:http://prueba2025.maderaytecnologia.com.ar/feria/interzum-2025/
LOCATION:Interzum\, Colonia\, Germany
ATTACH;FMTTYPE=image/jpeg:http://prueba2025.maderaytecnologia.com.ar/wp-content/uploads/2025/03/25-05-Interzum.jpg
END:VEVENT
BEGIN:VEVENT
DTSTART;VALUE=DATE:20250520
DTEND;VALUE=DATE:20250524
DTSTAMP:20260419T163652
CREATED:20250317T220631Z
LAST-MODIFIED:20250512T193731Z
UID:4185-1747699200-1748044799@prueba2025.maderaytecnologia.com.ar
SUMMARY:MóvelBrasil 2025
DESCRIPTION:Feria de muebles\, decoración y componentes
URL:http://prueba2025.maderaytecnologia.com.ar/feria/movelbrasil-2025/
LOCATION:MóvelBrasil\, Camboriú\, Brazil
ATTACH;FMTTYPE=image/jpeg:http://prueba2025.maderaytecnologia.com.ar/wp-content/uploads/2025/03/25-05-MovelBrasil.jpg
END:VEVENT
BEGIN:VEVENT
DTSTART;VALUE=DATE:20250520
DTEND;VALUE=DATE:20250526
DTSTAMP:20260419T163652
CREATED:20250317T220904Z
LAST-MODIFIED:20250514T154054Z
UID:4189-1747699200-1748217599@prueba2025.maderaytecnologia.com.ar
SUMMARY:XVIII Feria Internacional Expoconstrucción / Expodiseño 2025
DESCRIPTION:
URL:http://prueba2025.maderaytecnologia.com.ar/feria/xviii-feria-internacional-expoconstruccion-expodiseno-2025/
LOCATION:XVIII Feria Internacional Expoconstrucción / Expodiseño\, Bogotá\, Colombia
ATTACH;FMTTYPE=image/jpeg:http://prueba2025.maderaytecnologia.com.ar/wp-content/uploads/2025/03/25-05-Construmat.jpg
END:VEVENT
END:VCALENDAR