BEGIN:VCALENDAR
VERSION:2.0
PRODID:-//ASORA Madera y Tecnología. Ecosistema Digital de Contenidos - ECPv6.15.6//NONSGML v1.0//EN
CALSCALE:GREGORIAN
METHOD:PUBLISH
X-ORIGINAL-URL:http://prueba2025.maderaytecnologia.com.ar
X-WR-CALDESC:Eventos para ASORA Madera y Tecnología. Ecosistema Digital de Contenidos
REFRESH-INTERVAL;VALUE=DURATION:PT1H
X-Robots-Tag:noindex
X-PUBLISHED-TTL:PT1H
BEGIN:VTIMEZONE
TZID:America/Argentina/Buenos_Aires
BEGIN:STANDARD
TZOFFSETFROM:-0300
TZOFFSETTO:-0300
TZNAME:-03
DTSTART:20240101T000000
END:STANDARD
END:VTIMEZONE
BEGIN:VEVENT
DTSTART;VALUE=DATE:20250609
DTEND;VALUE=DATE:20250612
DTSTAMP:20260419T115330
CREATED:20250318T151328Z
LAST-MODIFIED:20250512T200449Z
UID:4217-1749427200-1749686399@prueba2025.maderaytecnologia.com.ar
SUMMARY:NeoCon 2025
DESCRIPTION:Chicago\, Estados Unidos
URL:http://prueba2025.maderaytecnologia.com.ar/feria/neocon-2025/
LOCATION:NeoCon\, United States
ATTACH;FMTTYPE=image/jpeg:http://prueba2025.maderaytecnologia.com.ar/wp-content/uploads/2025/03/25-06-neocon.jpg
END:VEVENT
BEGIN:VEVENT
DTSTART;VALUE=DATE:20250609
DTEND;VALUE=DATE:20250613
DTSTAMP:20260419T115330
CREATED:20250318T151953Z
LAST-MODIFIED:20250512T200100Z
UID:4221-1749427200-1749772799@prueba2025.maderaytecnologia.com.ar
SUMMARY:EUBCE 2025
DESCRIPTION:32nd. European Biomass Conference and Exhibition
URL:http://prueba2025.maderaytecnologia.com.ar/feria/eubce-2025/
LOCATION:EUBCE\, Valencia\, Spain
ATTACH;FMTTYPE=image/jpeg:http://prueba2025.maderaytecnologia.com.ar/wp-content/uploads/2025/03/25-06-eubce.jpg
END:VEVENT
BEGIN:VEVENT
DTSTART;VALUE=DATE:20250610
DTEND;VALUE=DATE:20250615
DTSTAMP:20260419T115330
CREATED:20250318T152303Z
LAST-MODIFIED:20250512T200023Z
UID:4225-1749513600-1749945599@prueba2025.maderaytecnologia.com.ar
SUMMARY:FIMAQH 2025
DESCRIPTION:Feria internacional de la Máquina-herramienta y tecnologías para la producción – La Rural\, Buenos Aires
URL:http://prueba2025.maderaytecnologia.com.ar/feria/fimaqh-2025/
LOCATION:FIMAQH\, Buenos Aires\, Argentina
ATTACH;FMTTYPE=image/jpeg:http://prueba2025.maderaytecnologia.com.ar/wp-content/uploads/2025/03/25-06-fimaqh.jpg
END:VEVENT
BEGIN:VEVENT
DTSTART;VALUE=DATE:20250610
DTEND;VALUE=DATE:20250615
DTSTAMP:20260419T115330
CREATED:20250318T155640Z
LAST-MODIFIED:20250509T184941Z
UID:4229-1749513600-1749945599@prueba2025.maderaytecnologia.com.ar
SUMMARY:FITECMA 2025
DESCRIPTION:16a. Feria Internacional de Madera & Tecnología – La Rural\, Ciudad de Buenos Aires
URL:http://prueba2025.maderaytecnologia.com.ar/feria/fitecma-2025/
LOCATION:FITECMA\, Buenos Aires\, CABA\, Argentina
ATTACH;FMTTYPE=image/jpeg:http://prueba2025.maderaytecnologia.com.ar/wp-content/uploads/2025/05/25-05-FITECMA-calendario1.jpg
END:VEVENT
BEGIN:VEVENT
DTSTART;VALUE=DATE:20250611
DTEND;VALUE=DATE:20250614
DTSTAMP:20260419T115330
CREATED:20250318T161043Z
LAST-MODIFIED:20250512T203147Z
UID:4234-1749600000-1749859199@prueba2025.maderaytecnologia.com.ar
SUMMARY:Wood Pro Expo Florida + Closets Conference & Expo
DESCRIPTION:West Palm Beach\, Estados Unidos
URL:http://prueba2025.maderaytecnologia.com.ar/feria/wood-pro-expo-florida-closets-conference-expo/
LOCATION:Wood Pro Expo Florida + Closets Conference & Expo\, United States
ATTACH;FMTTYPE=image/jpeg:http://prueba2025.maderaytecnologia.com.ar/wp-content/uploads/2025/03/25-06-wpe.jpg
END:VEVENT
END:VCALENDAR