BEGIN:VCALENDAR
VERSION:2.0
PRODID:-//ASORA Madera y Tecnología. Ecosistema Digital de Contenidos - ECPv6.15.6//NONSGML v1.0//EN
CALSCALE:GREGORIAN
METHOD:PUBLISH
X-ORIGINAL-URL:http://prueba2025.maderaytecnologia.com.ar
X-WR-CALDESC:Eventos para ASORA Madera y Tecnología. Ecosistema Digital de Contenidos
REFRESH-INTERVAL;VALUE=DURATION:PT1H
X-Robots-Tag:noindex
X-PUBLISHED-TTL:PT1H
BEGIN:VTIMEZONE
TZID:America/Argentina/Buenos_Aires
BEGIN:STANDARD
TZOFFSETFROM:-0300
TZOFFSETTO:-0300
TZNAME:-03
DTSTART:20240101T000000
END:STANDARD
END:VTIMEZONE
BEGIN:VEVENT
DTSTART;VALUE=DATE:20250618
DTEND;VALUE=DATE:20250621
DTSTAMP:20260419T151108
CREATED:20250318T165305Z
LAST-MODIFIED:20250512T195718Z
UID:4242-1750204800-1750463999@prueba2025.maderaytecnologia.com.ar
SUMMARY:8th. WoodEX for Africa Conference and
DESCRIPTION:
URL:http://prueba2025.maderaytecnologia.com.ar/feria/8th-woodex-for-africa-conference-and/
LOCATION:8th. WoodEX for Africa Conference and Expo\, Johannesburgo\, South Africa
ATTACH;FMTTYPE=image/jpeg:http://prueba2025.maderaytecnologia.com.ar/wp-content/uploads/2025/03/25-07-Woodex.jpg
END:VEVENT
END:VCALENDAR