BEGIN:VCALENDAR
VERSION:2.0
PRODID:-//ASORA Madera y Tecnología. Ecosistema Digital de Contenidos - ECPv6.15.6//NONSGML v1.0//EN
CALSCALE:GREGORIAN
METHOD:PUBLISH
X-WR-CALNAME:ASORA Madera y Tecnología. Ecosistema Digital de Contenidos
X-ORIGINAL-URL:http://prueba2025.maderaytecnologia.com.ar
X-WR-CALDESC:Eventos para ASORA Madera y Tecnología. Ecosistema Digital de Contenidos
REFRESH-INTERVAL;VALUE=DURATION:PT1H
X-Robots-Tag:noindex
X-PUBLISHED-TTL:PT1H
BEGIN:VTIMEZONE
TZID:America/Argentina/Buenos_Aires
BEGIN:STANDARD
TZOFFSETFROM:-0300
TZOFFSETTO:-0300
TZNAME:-03
DTSTART:20240101T000000
END:STANDARD
END:VTIMEZONE
BEGIN:VEVENT
DTSTART;VALUE=DATE:20250622
DTEND;VALUE=DATE:20250627
DTSTAMP:20260419T145849
CREATED:20250318T165548Z
LAST-MODIFIED:20250512T195645Z
UID:4246-1750550400-1750982399@prueba2025.maderaytecnologia.com.ar
SUMMARY:WCTE 2025
DESCRIPTION:
URL:http://prueba2025.maderaytecnologia.com.ar/feria/wcte-2025/
LOCATION:World Conference on Timber Engineering\, Brisbane\, Australia
ATTACH;FMTTYPE=image/jpeg:http://prueba2025.maderaytecnologia.com.ar/wp-content/uploads/2025/03/25-07-WCTE.jpg
END:VEVENT
BEGIN:VEVENT
DTSTART;VALUE=DATE:20250622
DTEND;VALUE=DATE:20250627
DTSTAMP:20260419T145849
CREATED:20250318T185815Z
LAST-MODIFIED:20250512T195610Z
UID:4250-1750550400-1750982399@prueba2025.maderaytecnologia.com.ar
SUMMARY:IRG56
DESCRIPTION:Annual Conference of the International Research Group on Wood Protection
URL:http://prueba2025.maderaytecnologia.com.ar/feria/irg56-annual-conference-of-the-international-research-group-on-wood-protection/
LOCATION:IRG56 – Annual Conference of the International Research Group on Wood Protection\, Yokohama\, Japan
ATTACH;FMTTYPE=image/jpeg:http://prueba2025.maderaytecnologia.com.ar/wp-content/uploads/2025/03/25-06-IRG56.jpg
END:VEVENT
BEGIN:VEVENT
DTSTART;VALUE=DATE:20250624
DTEND;VALUE=DATE:20250627
DTSTAMP:20260419T145849
CREATED:20250318T190224Z
LAST-MODIFIED:20250512T195533Z
UID:4255-1750723200-1750982399@prueba2025.maderaytecnologia.com.ar
SUMMARY:spoga+gafa 2025
DESCRIPTION:
URL:http://prueba2025.maderaytecnologia.com.ar/feria/spogagafa-2025/
LOCATION:spoga+gafa\, Colonia\, Germany
ATTACH;FMTTYPE=image/jpeg:http://prueba2025.maderaytecnologia.com.ar/wp-content/uploads/2025/03/25-06-Spoga.jpg
END:VEVENT
BEGIN:VEVENT
DTSTART;VALUE=DATE:20250625
DTEND;VALUE=DATE:20250629
DTSTAMP:20260419T145849
CREATED:20250318T190642Z
LAST-MODIFIED:20250512T195450Z
UID:4259-1750809600-1751155199@prueba2025.maderaytecnologia.com.ar
SUMMARY:BATEV 2025
DESCRIPTION:Exposición Internacional de la Construcción y la Vivienda
URL:http://prueba2025.maderaytecnologia.com.ar/feria/batev-2025/
LOCATION:Córdoba
ATTACH;FMTTYPE=image/jpeg:http://prueba2025.maderaytecnologia.com.ar/wp-content/uploads/2025/03/25-07-Batev.jpg
END:VEVENT
END:VCALENDAR