BEGIN:VCALENDAR
VERSION:2.0
PRODID:-//ASORA Madera y Tecnología. Ecosistema Digital de Contenidos - ECPv6.15.6//NONSGML v1.0//EN
CALSCALE:GREGORIAN
METHOD:PUBLISH
X-WR-CALNAME:ASORA Madera y Tecnología. Ecosistema Digital de Contenidos
X-ORIGINAL-URL:http://prueba2025.maderaytecnologia.com.ar
X-WR-CALDESC:Eventos para ASORA Madera y Tecnología. Ecosistema Digital de Contenidos
REFRESH-INTERVAL;VALUE=DURATION:PT1H
X-Robots-Tag:noindex
X-PUBLISHED-TTL:PT1H
BEGIN:VTIMEZONE
TZID:America/Argentina/Buenos_Aires
BEGIN:STANDARD
TZOFFSETFROM:-0300
TZOFFSETTO:-0300
TZNAME:-03
DTSTART:20240101T000000
END:STANDARD
END:VTIMEZONE
BEGIN:VEVENT
DTSTART;VALUE=DATE:20250506
DTEND;VALUE=DATE:20250509
DTSTAMP:20260419T115128
CREATED:20250317T215114Z
LAST-MODIFIED:20250318T160444Z
UID:4168-1746489600-1746748799@prueba2025.maderaytecnologia.com.ar
SUMMARY:Expobiomasa 2025
DESCRIPTION:
URL:http://prueba2025.maderaytecnologia.com.ar/feria/expobiomasa-2025/
LOCATION:Expobiomasa\, Valladolid\, Spain
END:VEVENT
BEGIN:VEVENT
DTSTART;VALUE=DATE:20250516
DTEND;VALUE=DATE:20250519
DTSTAMP:20260419T115128
CREATED:20250317T215647Z
LAST-MODIFIED:20250512T194523Z
UID:4172-1747353600-1747612799@prueba2025.maderaytecnologia.com.ar
SUMMARY:Forlener 2025
DESCRIPTION:Salone dell’Energia dal Legno
URL:http://prueba2025.maderaytecnologia.com.ar/feria/forlener-2025/
LOCATION:Forlener\, Erba\, Italy
ATTACH;FMTTYPE=image/jpeg:http://prueba2025.maderaytecnologia.com.ar/wp-content/uploads/2025/03/25-05-Forlener.jpg
END:VEVENT
BEGIN:VEVENT
DTSTART;VALUE=DATE:20250518
DTEND;VALUE=DATE:20250521
DTSTAMP:20260419T115128
CREATED:20250317T220002Z
LAST-MODIFIED:20250512T194426Z
UID:4177-1747526400-1747785599@prueba2025.maderaytecnologia.com.ar
SUMMARY:ICFF 2020
DESCRIPTION:International Contemporary Furniture Fair
URL:http://prueba2025.maderaytecnologia.com.ar/feria/icff-2020/
LOCATION:ICFF\, United States
ATTACH;FMTTYPE=image/jpeg:http://prueba2025.maderaytecnologia.com.ar/wp-content/uploads/2025/03/25-05-ICFF.jpg
END:VEVENT
BEGIN:VEVENT
DTSTART;VALUE=DATE:20250520
DTEND;VALUE=DATE:20250523
DTSTAMP:20260419T115128
CREATED:20250318T144051Z
LAST-MODIFIED:20250514T163516Z
UID:4193-1747699200-1747958399@prueba2025.maderaytecnologia.com.ar
SUMMARY:Construmat 2025
DESCRIPTION:Salón Internacional de la Construcción
URL:http://prueba2025.maderaytecnologia.com.ar/feria/construmat-2025/
LOCATION:Construmat\, Barcelona\, Spain
ATTACH;FMTTYPE=image/jpeg:http://prueba2025.maderaytecnologia.com.ar/wp-content/uploads/2025/03/25-05-Construmat-1.jpg
END:VEVENT
BEGIN:VEVENT
DTSTART;VALUE=DATE:20250520
DTEND;VALUE=DATE:20250524
DTSTAMP:20260419T115128
CREATED:20250317T220219Z
LAST-MODIFIED:20250512T193824Z
UID:4181-1747699200-1748044799@prueba2025.maderaytecnologia.com.ar
SUMMARY:Interzum 2025
DESCRIPTION:Feria internacional para fabricación de muebles e interiores
URL:http://prueba2025.maderaytecnologia.com.ar/feria/interzum-2025/
LOCATION:Interzum\, Colonia\, Germany
ATTACH;FMTTYPE=image/jpeg:http://prueba2025.maderaytecnologia.com.ar/wp-content/uploads/2025/03/25-05-Interzum.jpg
END:VEVENT
BEGIN:VEVENT
DTSTART;VALUE=DATE:20250520
DTEND;VALUE=DATE:20250524
DTSTAMP:20260419T115128
CREATED:20250317T220631Z
LAST-MODIFIED:20250512T193731Z
UID:4185-1747699200-1748044799@prueba2025.maderaytecnologia.com.ar
SUMMARY:MóvelBrasil 2025
DESCRIPTION:Feria de muebles\, decoración y componentes
URL:http://prueba2025.maderaytecnologia.com.ar/feria/movelbrasil-2025/
LOCATION:MóvelBrasil\, Camboriú\, Brazil
ATTACH;FMTTYPE=image/jpeg:http://prueba2025.maderaytecnologia.com.ar/wp-content/uploads/2025/03/25-05-MovelBrasil.jpg
END:VEVENT
BEGIN:VEVENT
DTSTART;VALUE=DATE:20250520
DTEND;VALUE=DATE:20250526
DTSTAMP:20260419T115128
CREATED:20250317T220904Z
LAST-MODIFIED:20250514T154054Z
UID:4189-1747699200-1748217599@prueba2025.maderaytecnologia.com.ar
SUMMARY:XVIII Feria Internacional Expoconstrucción / Expodiseño 2025
DESCRIPTION:
URL:http://prueba2025.maderaytecnologia.com.ar/feria/xviii-feria-internacional-expoconstruccion-expodiseno-2025/
LOCATION:XVIII Feria Internacional Expoconstrucción / Expodiseño\, Bogotá\, Colombia
ATTACH;FMTTYPE=image/jpeg:http://prueba2025.maderaytecnologia.com.ar/wp-content/uploads/2025/03/25-05-Construmat.jpg
END:VEVENT
BEGIN:VEVENT
DTSTART;VALUE=DATE:20250526
DTEND;VALUE=DATE:20250531
DTSTAMP:20260419T115128
CREATED:20250318T144249Z
LAST-MODIFIED:20250512T200611Z
UID:4197-1748217600-1748649599@prueba2025.maderaytecnologia.com.ar
SUMMARY:Ligna 2025
DESCRIPTION:Feria mundial de la industria forestal y la madera
URL:http://prueba2025.maderaytecnologia.com.ar/feria/ligna-2025/
LOCATION:Ligna\, Hannover\, Germany
ATTACH;FMTTYPE=image/jpeg:http://prueba2025.maderaytecnologia.com.ar/wp-content/uploads/2025/03/25-05-Ligna.jpg
END:VEVENT
BEGIN:VEVENT
DTSTART;VALUE=DATE:20250527
DTEND;VALUE=DATE:20250530
DTSTAMP:20260419T115128
CREATED:20250318T144517Z
LAST-MODIFIED:20250512T200527Z
UID:4201-1748304000-1748563199@prueba2025.maderaytecnologia.com.ar
SUMMARY:INDEX 2025
DESCRIPTION:International Design Exhibition
URL:http://prueba2025.maderaytecnologia.com.ar/feria/index-2025/
LOCATION:INDEX\, Dubai\, United Arab Emirates
ATTACH;FMTTYPE=image/jpeg:http://prueba2025.maderaytecnologia.com.ar/wp-content/uploads/2025/03/25-05-index.jpg
END:VEVENT
BEGIN:VEVENT
DTSTART;VALUE=DATE:20250527
DTEND;VALUE=DATE:20250530
DTSTAMP:20260419T115128
CREATED:20250318T145649Z
LAST-MODIFIED:20250512T200404Z
UID:4205-1748304000-1748563199@prueba2025.maderaytecnologia.com.ar
SUMMARY:The Hotel Show 2025
DESCRIPTION:
URL:http://prueba2025.maderaytecnologia.com.ar/feria/the-hotel-show-2025/
LOCATION:The Hotel Show\, Dubai\, United Arab Emirates
ATTACH;FMTTYPE=image/jpeg:http://prueba2025.maderaytecnologia.com.ar/wp-content/uploads/2025/03/25-05-thehotelshow.jpg
END:VEVENT
END:VCALENDAR